BEGIN:VCALENDAR
VERSION:2.0
PRODID:-//VOLLESROHR e.V. - ECPv6.15.20//NONSGML v1.0//EN
CALSCALE:GREGORIAN
METHOD:PUBLISH
X-ORIGINAL-URL:https://vollesrohr.de
X-WR-CALDESC:Veranstaltungen für VOLLESROHR e.V.
REFRESH-INTERVAL;VALUE=DURATION:PT1H
X-Robots-Tag:noindex
X-PUBLISHED-TTL:PT1H
BEGIN:VTIMEZONE
TZID:Europe/Berlin
BEGIN:DAYLIGHT
TZOFFSETFROM:+0100
TZOFFSETTO:+0200
TZNAME:CEST
DTSTART:20250330T010000
END:DAYLIGHT
BEGIN:STANDARD
TZOFFSETFROM:+0200
TZOFFSETTO:+0100
TZNAME:CET
DTSTART:20251026T010000
END:STANDARD
BEGIN:DAYLIGHT
TZOFFSETFROM:+0100
TZOFFSETTO:+0200
TZNAME:CEST
DTSTART:20260329T010000
END:DAYLIGHT
BEGIN:STANDARD
TZOFFSETFROM:+0200
TZOFFSETTO:+0100
TZNAME:CET
DTSTART:20261025T010000
END:STANDARD
BEGIN:DAYLIGHT
TZOFFSETFROM:+0100
TZOFFSETTO:+0200
TZNAME:CEST
DTSTART:20270328T010000
END:DAYLIGHT
BEGIN:STANDARD
TZOFFSETFROM:+0200
TZOFFSETTO:+0100
TZNAME:CET
DTSTART:20271031T010000
END:STANDARD
END:VTIMEZONE
BEGIN:VEVENT
DTSTART;VALUE=DATE:20260809
DTEND;VALUE=DATE:20260810
DTSTAMP:20260423T104947
CREATED:20260203T124500Z
LAST-MODIFIED:20260408T153924Z
UID:1451-1786233600-1786319999@vollesrohr.de
SUMMARY:#350 - Rheinhessen - Thomas & Jochen
DESCRIPTION:Rhoihesse – Weck\, Woscht und Woi (letzteres eher nicht oder alkoholfrei). \nFür mehr Informationen und Detail (Uhrzeit\, Treffpunk etc.) freuen wir uns auf einen Besuch bei einem der Stammtische vor der Tour. Nähere Informationen erhaltet Ihr auch über Andi N. \nWichtiger Hinweis: Nichtmitglieder müssen vor jeder Tour einen Haftungsausschluss anerkennen.
URL:https://vollesrohr.de/veranstaltung/350-rheinhessen/
LOCATION:Rheinhessen\, Hessen\, Germany
CATEGORIES:Tagestour
ATTACH;FMTTYPE=image/jpeg:https://vollesrohr.de/wp-content/uploads/2025/02/240609-09-Hunsreuck-Rheinhessen.jpg
END:VEVENT
END:VCALENDAR