BEGIN:VCALENDAR
VERSION:2.0
PRODID:-//VOLLESROHR e.V. - ECPv6.15.20//NONSGML v1.0//EN
CALSCALE:GREGORIAN
METHOD:PUBLISH
X-ORIGINAL-URL:https://vollesrohr.de
X-WR-CALDESC:Veranstaltungen für VOLLESROHR e.V.
REFRESH-INTERVAL;VALUE=DURATION:PT1H
X-Robots-Tag:noindex
X-PUBLISHED-TTL:PT1H
BEGIN:VTIMEZONE
TZID:Europe/Berlin
BEGIN:DAYLIGHT
TZOFFSETFROM:+0100
TZOFFSETTO:+0200
TZNAME:CEST
DTSTART:20250330T010000
END:DAYLIGHT
BEGIN:STANDARD
TZOFFSETFROM:+0200
TZOFFSETTO:+0100
TZNAME:CET
DTSTART:20251026T010000
END:STANDARD
BEGIN:DAYLIGHT
TZOFFSETFROM:+0100
TZOFFSETTO:+0200
TZNAME:CEST
DTSTART:20260329T010000
END:DAYLIGHT
BEGIN:STANDARD
TZOFFSETFROM:+0200
TZOFFSETTO:+0100
TZNAME:CET
DTSTART:20261025T010000
END:STANDARD
BEGIN:DAYLIGHT
TZOFFSETFROM:+0100
TZOFFSETTO:+0200
TZNAME:CEST
DTSTART:20270328T010000
END:DAYLIGHT
BEGIN:STANDARD
TZOFFSETFROM:+0200
TZOFFSETTO:+0100
TZNAME:CET
DTSTART:20271031T010000
END:STANDARD
END:VTIMEZONE
BEGIN:VEVENT
DTSTART;TZID=Europe/Berlin:20260303T200000
DTEND;TZID=Europe/Berlin:20260303T220000
DTSTAMP:20260419T142118
CREATED:20260128T125530Z
LAST-MODIFIED:20260128T133255Z
UID:1404-1772568000-1772575200@vollesrohr.de
SUMMARY:Stammtisch
DESCRIPTION:Unser monatlichen Treffen zum planen und vorbereiten der Ausfahrten\, oder nur so zum plaudern. Findet ganzjährig statt – also auch im Winter. \nDas ist die einfachste und beste Gelegenheit vorbeizuschauen kennen zu lernen. \n 
URL:https://vollesrohr.de/veranstaltung/stammtisch-2-2/
LOCATION:SWITCHBOARD Cafe/Bar\, Alte Gasse 36\, Frankfurt am Main\, Hessen\, 60313\, Germany
CATEGORIES:Stammtisch und sonstige Termine
ATTACH;FMTTYPE=image/jpeg:https://vollesrohr.de/wp-content/uploads/2025/02/Neue-Leuchtreklame-Switch-04.23-Kopie-2.jpg
ORGANIZER;CN="VOLLESROHR - Freundeskreis schwuler Motorradfahrer Frankfurt/M e.V.":MAILTO:info@vollesrohr.de
END:VEVENT
BEGIN:VEVENT
DTSTART;VALUE=DATE:20260321
DTEND;VALUE=DATE:20260322
DTSTAMP:20260419T142118
CREATED:20260203T124455Z
LAST-MODIFIED:20260320T062321Z
UID:1446-1774051200-1774137599@vollesrohr.de
SUMMARY:#342 - ABGESAGT: Odenwald - Gerhard & Andi K.
DESCRIPTION:ZUNÄCHST ABGESAGT: DAS WETTER WIRD NICHT BESSER! (Akt.: 19.03.26) \n„Servus Jungens\, \n\nirgendwie ist dieses Jahr der Wurm drinne\, das Wetter wird am Sa. echt frostig in der Nacht werden es grade 5°C sein und am Tag werden max. 13°C bei 5 Std Sonne ereicht. Das bedeutet morgens um 09:00h bei 6°C zum Treffpunkt fahren in mindesten 4 Lagen Klamotten! Da haben weder Andi\, Gerhard noch Andi K. Lust drauf!\n\nIn den folgenden Wochen steht an den Samstagen (und nur da können wir diese Tour fahren wg. der Zotzenbachstrecke!) immer einer  oder 2 von uns dreien nicht zur Verfügung. Wir haben daher beschloßen\, dass die Tour evtl. im April nachgeholt wird\, wann genau werden wir natürlich rechtzeitig ankündigen.\n\nSchade\, aber die Tour auszuarbeiten war viel Arbeit und sollte genossen werden können! 😏\n\nLG Gerhard\, Andi K. & Andi„\n\nTour durch den Odenwald. Ein Klassiker zum Start: Willkommen im hessischen Süden. \nFür mehr Informationen und Detail (Uhrzeit\, Treffpunk etc.) freuen wir uns auf einen Besuch bei einem der Stammtische vor der Tour. Nähere Informationen erhaltet Ihr auch über Andi N. \nWichtiger Hinweis: Nichtmitglieder müssen vor jeder Tour einen Haftungsausschluss anerkennen.
URL:https://vollesrohr.de/veranstaltung/342-odenwald/
LOCATION:Odenwald\, Odenwald\, Hessen\, Germany
CATEGORIES:Tagestour
ATTACH;FMTTYPE=image/jpeg:https://vollesrohr.de/wp-content/uploads/2024/04/160402_odenwald-02_38657126645_o.jpg
END:VEVENT
END:VCALENDAR