BEGIN:VCALENDAR
VERSION:2.0
PRODID:-//VOLLESROHR e.V. - ECPv6.15.20//NONSGML v1.0//EN
CALSCALE:GREGORIAN
METHOD:PUBLISH
X-ORIGINAL-URL:https://vollesrohr.de
X-WR-CALDESC:Veranstaltungen für VOLLESROHR e.V.
REFRESH-INTERVAL;VALUE=DURATION:PT1H
X-Robots-Tag:noindex
X-PUBLISHED-TTL:PT1H
BEGIN:VTIMEZONE
TZID:Europe/Berlin
BEGIN:DAYLIGHT
TZOFFSETFROM:+0100
TZOFFSETTO:+0200
TZNAME:CEST
DTSTART:20250330T010000
END:DAYLIGHT
BEGIN:STANDARD
TZOFFSETFROM:+0200
TZOFFSETTO:+0100
TZNAME:CET
DTSTART:20251026T010000
END:STANDARD
BEGIN:DAYLIGHT
TZOFFSETFROM:+0100
TZOFFSETTO:+0200
TZNAME:CEST
DTSTART:20260329T010000
END:DAYLIGHT
BEGIN:STANDARD
TZOFFSETFROM:+0200
TZOFFSETTO:+0100
TZNAME:CET
DTSTART:20261025T010000
END:STANDARD
BEGIN:DAYLIGHT
TZOFFSETFROM:+0100
TZOFFSETTO:+0200
TZNAME:CEST
DTSTART:20270328T010000
END:DAYLIGHT
BEGIN:STANDARD
TZOFFSETFROM:+0200
TZOFFSETTO:+0100
TZNAME:CET
DTSTART:20271031T010000
END:STANDARD
END:VTIMEZONE
BEGIN:VEVENT
DTSTART;TZID=Europe/Berlin:20260901T200000
DTEND;TZID=Europe/Berlin:20260901T220000
DTSTAMP:20260422T104904
CREATED:20260128T125530Z
LAST-MODIFIED:20260128T134514Z
UID:1414-1788292800-1788300000@vollesrohr.de
SUMMARY:Stammtisch
DESCRIPTION:Unser monatlichen Treffen zum planen und vorbereiten der Ausfahrten\, oder nur so zum plaudern. Findet ganzjährig statt – also auch im Winter. \nDas ist die einfachste und beste Gelegenheit vorbeizuschauen kennen zu lernen. \n 
URL:https://vollesrohr.de/veranstaltung/stammtisch-3-2/
LOCATION:SWITCHBOARD Cafe/Bar\, Alte Gasse 36\, Frankfurt am Main\, Hessen\, 60313\, Germany
CATEGORIES:Stammtisch und sonstige Termine
ATTACH;FMTTYPE=image/jpeg:https://vollesrohr.de/wp-content/uploads/2025/02/Neue-Leuchtreklame-Switch-04.23-Kopie-2.jpg
ORGANIZER;CN="VOLLESROHR - Freundeskreis schwuler Motorradfahrer Frankfurt/M e.V.":MAILTO:info@vollesrohr.de
END:VEVENT
BEGIN:VEVENT
DTSTART;VALUE=DATE:20260905
DTEND;VALUE=DATE:20260906
DTSTAMP:20260422T104904
CREATED:20260203T124501Z
LAST-MODIFIED:20260309T065643Z
UID:1452-1788566400-1788652799@vollesrohr.de
SUMMARY:#352 - Rheingau / Taunus - Matthias
DESCRIPTION:Der Klassiker: Kurven rauf und runter. \nFür mehr Informationen und Detail (Uhrzeit\, Treffpunk etc.) freuen wir uns auf einen Besuch bei einem der Stammtische vor der Tour. Nähere Informationen erhaltet Ihr auch über Andi N. \nWichtiger Hinweis: Nichtmitglieder müssen vor jeder Tour einen Haftungsausschluss anerkennen.
URL:https://vollesrohr.de/veranstaltung/352-rheingau-taunus/
CATEGORIES:Tagestour
ATTACH;FMTTYPE=image/jpeg:https://vollesrohr.de/wp-content/uploads/2024/11/27028291359_994bcafbb0_o.jpg
END:VEVENT
END:VCALENDAR